BEGIN:VCALENDAR
VERSION:2.0
CALSCALE:GREGORIAN
PRODID:adamgibbons/ics
METHOD:PUBLISH
X-PUBLISHED-TTL:PT1H
BEGIN:VEVENT
UID:5039@localhost
SUMMARY:AK SoWi
DTSTAMP:20260420T044447Z
DTSTART:20260419T160000Z
DTEND:20260419T190000Z
URL:https://centrosociale.de/event/angefragt-ak-sowi-1
LOCATION:- - -
STATUS:CONFIRMED
CATEGORIES:Kolleg
BEGIN:VALARM
ACTION:DISPLAY
DESCRIPTION:AK SoWi
TRIGGER:-PT1H
END:VALARM
END:VEVENT
END:VCALENDAR
