BEGIN:VCALENDAR
VERSION:2.0
CALSCALE:GREGORIAN
PRODID:adamgibbons/ics
METHOD:PUBLISH
X-PUBLISHED-TTL:PT1H
BEGIN:VEVENT
UID:5042@localhost
SUMMARY:Bücherschatzgruppentreffen
DTSTAMP:20260420T063434Z
DTSTART:20260421T163000Z
DTEND:20260421T190000Z
URL:https://centrosociale.de/event/angefragt-bucherschatzgruppentreffen-1
LOCATION:- - -
STATUS:CONFIRMED
CATEGORIES:Büro
BEGIN:VALARM
ACTION:DISPLAY
DESCRIPTION:Bücherschatzgruppentreffen
TRIGGER:-PT1H
END:VALARM
END:VEVENT
END:VCALENDAR
