BEGIN:VCALENDAR
VERSION:2.0
CALSCALE:GREGORIAN
PRODID:adamgibbons/ics
METHOD:PUBLISH
X-PUBLISHED-TTL:PT1H
BEGIN:VEVENT
UID:5005@localhost
SUMMARY:Bücherschatzgruppentreffen
DTSTAMP:20260420T061901Z
DTSTART:20260414T170000Z
DTEND:20260414T193000Z
URL:https://centrosociale.de/event/angefragt-bucherschatzgruppentreffen
LOCATION:- - -
STATUS:CONFIRMED
CATEGORIES:Büro
BEGIN:VALARM
ACTION:DISPLAY
DESCRIPTION:Bücherschatzgruppentreffen
TRIGGER:-PT1H
END:VALARM
END:VEVENT
END:VCALENDAR
