BEGIN:VCALENDAR
VERSION:2.0
CALSCALE:GREGORIAN
PRODID:adamgibbons/ics
METHOD:PUBLISH
X-PUBLISHED-TTL:PT1H
BEGIN:VEVENT
UID:4993@localhost
SUMMARY:ANGEFRAGT: FUGK Fashion Contest
DTSTAMP:20260420T063711Z
DTSTART:20260815T140000Z
DTEND:20260816T040000Z
DESCRIPTION:Fashion Contest + Party for the upcoming FUGK Magazine
URL:https://centrosociale.de/event/angefragt-fugk-fashion-contest
LOCATION:- - -
STATUS:CONFIRMED
CATEGORIES:Saal,laut
X-ALT-DESC;FMTTYPE=text/html:<p>Fashion Contest + Party for the upcoming FU
	GK Magazine</p>
BEGIN:VALARM
ACTION:DISPLAY
DESCRIPTION:ANGEFRAGT: FUGK Fashion Contest
TRIGGER:-PT1H
END:VALARM
END:VEVENT
END:VCALENDAR
