BEGIN:VCALENDAR
VERSION:2.0
CALSCALE:GREGORIAN
PRODID:adamgibbons/ics
METHOD:PUBLISH
X-PUBLISHED-TTL:PT1H
BEGIN:VEVENT
UID:5041@localhost
SUMMARY:NOlympia
DTSTAMP:20260420T044344Z
DTSTART:20260419T170000Z
DTEND:20260419T190000Z
URL:https://centrosociale.de/event/angefragt-nolympia-1
LOCATION:- - -
STATUS:CONFIRMED
CATEGORIES:Kubus
X-ALT-DESC;FMTTYPE=text/html:<p></p>
BEGIN:VALARM
ACTION:DISPLAY
DESCRIPTION:NOlympia
TRIGGER:-PT1H
END:VALARM
END:VEVENT
END:VCALENDAR
