BEGIN:VCALENDAR
VERSION:2.0
CALSCALE:GREGORIAN
PRODID:adamgibbons/ics
METHOD:PUBLISH
X-PUBLISHED-TTL:PT1H
BEGIN:VEVENT
UID:1004@localhost
SUMMARY:Arbeitskreis SoWi
DTSTAMP:20260420T031118Z
DTSTART:20260420T170000Z
URL:https://centrosociale.de/event/arbeitskreis-sowi-18
LOCATION:- - -
STATUS:CONFIRMED
CATEGORIES:,Büro,Kolleg,Kolleg-Vorraum,Kubus,Loki-Lounge
END:VEVENT
BEGIN:VEVENT
UID:4746@localhost
SUMMARY:Take Back The Night Demo Plenum
DTSTAMP:20260420T031118Z
DTSTART:20260421T170000Z
DTEND:20260421T190000Z
URL:https://centrosociale.de/event/take-back-the-night-demo-plenum-6
LOCATION:- - -
STATUS:CONFIRMED
CATEGORIES:Loki-Lounge
END:VEVENT
BEGIN:VEVENT
UID:3777@localhost
SUMMARY:Betriebsversammlung HAG eG
DTSTAMP:20260420T031118Z
DTSTART:20260424T070000Z
DTEND:20260424T140000Z
URL:https://centrosociale.de/event/angefragt-betriebsversammlung-hag-eg-1
LOCATION:- - -
STATUS:CONFIRMED
CATEGORIES:Loki-Lounge,Saal
END:VEVENT
BEGIN:VEVENT
UID:4923@localhost
SUMMARY:offenes Schülertreffen zum ersten Mai
DTSTAMP:20260420T031118Z
DTSTART:20260424T160000Z
DTEND:20260424T215500Z
URL:https://centrosociale.de/event/angefragt-offenes-schulertreffen-zum-ers
	ten-mai
LOCATION:- - -
STATUS:CONFIRMED
CATEGORIES:Loki-Lounge,Saal
END:VEVENT
BEGIN:VEVENT
UID:1017@localhost
SUMMARY:Arbeitskreis SoWi
DTSTAMP:20260420T031118Z
DTSTART:20260427T170000Z
URL:https://centrosociale.de/event/arbeitskreis-sowi-31
LOCATION:- - -
STATUS:CONFIRMED
CATEGORIES:,Büro,Kolleg,Kolleg-Vorraum,Kubus,Loki-Lounge
END:VEVENT
BEGIN:VEVENT
UID:126@localhost
SUMMARY:Arbeitskreis SoWi
DTSTAMP:20260420T031118Z
DTSTART:20260504T170000Z
URL:https://centrosociale.de/event/arbeitskreis-sowi-5
LOCATION:- - -
STATUS:CONFIRMED
CATEGORIES:,Büro,Kolleg,Kolleg-Vorraum,Kubus,Loki-Lounge
END:VEVENT
BEGIN:VEVENT
UID:5016@localhost
SUMMARY:BUKO Workshop: KI & Arbeit im kolonialen Verhältnis
DTSTAMP:20260420T031118Z
DTSTART:20260509T150000Z
DTEND:20260509T173000Z
URL:https://centrosociale.de/event/angefragt-buko-workshop-ki-and-arbeit-im
	-kolonialen-verhaltnis
LOCATION:- - -
STATUS:CONFIRMED
CATEGORIES:Kubus,Loki-Lounge,Saal
END:VEVENT
BEGIN:VEVENT
UID:991@localhost
SUMMARY:ANGEFRAGT: Arbeitskreis SoWi
DTSTAMP:20260420T031118Z
DTSTART:20260511T170000Z
URL:https://centrosociale.de/event/angefragt-arbeitskreis-sowi-5
LOCATION:- - -
STATUS:CONFIRMED
CATEGORIES:,Büro,Kolleg,Kolleg-Vorraum,Kubus,Loki-Lounge
END:VEVENT
BEGIN:VEVENT
UID:4514@localhost
SUMMARY:Offenes Cafe
DTSTAMP:20260420T031118Z
DTSTART:20260514T150000Z
DTEND:20260514T200000Z
URL:https://centrosociale.de/event/offenes-cafe-2
LOCATION:- - -
STATUS:CONFIRMED
CATEGORIES:Kolleg,Loki-Lounge,Saal
END:VEVENT
BEGIN:VEVENT
UID:974@localhost
SUMMARY:tink - https://tinkino.org/
DTSTAMP:20260420T031118Z
DTSTART:20260515T160000Z
DTEND:20260515T213000Z
URL:https://centrosociale.de/event/tink-httpstinkinoorg
LOCATION:- - -
STATUS:CONFIRMED
CATEGORIES:,Kubus,Loki-Lounge,Saal
END:VEVENT
BEGIN:VEVENT
UID:1716@localhost
SUMMARY:tink - https://tinkino.org/
DTSTAMP:20260420T031118Z
DTSTART:20260516T110000Z
DTEND:20260516T213000Z
URL:https://centrosociale.de/event/tink-httpstinkinoorg-1
LOCATION:- - -
STATUS:CONFIRMED
CATEGORIES:,Kubus,Loki-Lounge,Saal
END:VEVENT
BEGIN:VEVENT
UID:2215@localhost
SUMMARY:Lost and Found TIN QueerSpace
DTSTAMP:20260420T031118Z
DTSTART:20260517T130000Z
DTEND:20260517T160000Z
URL:https://centrosociale.de/event/angefragt-lost-and-found-tin-queerspace
LOCATION:- - -
STATUS:CONFIRMED
CATEGORIES:Kubus,Loki-Lounge,Saal
END:VEVENT
BEGIN:VEVENT
UID:1005@localhost
SUMMARY:Arbeitskreis SoWi
DTSTAMP:20260420T031118Z
DTSTART:20260518T170000Z
URL:https://centrosociale.de/event/arbeitskreis-sowi-19
LOCATION:- - -
STATUS:CONFIRMED
CATEGORIES:,Büro,Kolleg,Kolleg-Vorraum,Kubus,Loki-Lounge
END:VEVENT
BEGIN:VEVENT
UID:4965@localhost
SUMMARY:ANGEFRAGT: Jaam Session
DTSTAMP:20260420T031118Z
DTSTART:20260524T140000Z
DTEND:20260524T220000Z
URL:https://centrosociale.de/event/angefragt-jaam-session-1
LOCATION:- - -
STATUS:CONFIRMED
CATEGORIES:Kubus,Loki-Lounge,Saal
END:VEVENT
BEGIN:VEVENT
UID:1018@localhost
SUMMARY:Arbeitskreis SoWi
DTSTAMP:20260420T031118Z
DTSTART:20260525T170000Z
URL:https://centrosociale.de/event/arbeitskreis-sowi-32
LOCATION:- - -
STATUS:CONFIRMED
CATEGORIES:,Büro,Kolleg,Kolleg-Vorraum,Kubus,Loki-Lounge
END:VEVENT
BEGIN:VEVENT
UID:127@localhost
SUMMARY:Arbeitskreis SoWi
DTSTAMP:20260420T031118Z
DTSTART:20260601T170000Z
URL:https://centrosociale.de/event/arbeitskreis-sowi-6
LOCATION:- - -
STATUS:CONFIRMED
CATEGORIES:,Büro,Kolleg,Kolleg-Vorraum,Kubus,Loki-Lounge
END:VEVENT
BEGIN:VEVENT
UID:975@localhost
SUMMARY:Paula‘s Geburtstagsfeier
DTSTAMP:20260420T031118Z
DTSTART:20260606T160000Z
URL:https://centrosociale.de/event/paulas-geburtstagsfeier
LOCATION:- - -
STATUS:CONFIRMED
CATEGORIES:Kolleg,Kolleg-Vorraum,Kubus,Loki-Lounge,Saal,laut
END:VEVENT
BEGIN:VEVENT
UID:992@localhost
SUMMARY:ANGEFRAGT: Arbeitskreis SoWi
DTSTAMP:20260420T031118Z
DTSTART:20260608T170000Z
URL:https://centrosociale.de/event/angefragt-arbeitskreis-sowi-6
LOCATION:- - -
STATUS:CONFIRMED
CATEGORIES:,Büro,Kolleg,Kolleg-Vorraum,Kubus,Loki-Lounge
END:VEVENT
BEGIN:VEVENT
UID:4515@localhost
SUMMARY:Offenes Cafe
DTSTAMP:20260420T031118Z
DTSTART:20260611T150000Z
DTEND:20260611T200000Z
URL:https://centrosociale.de/event/offenes-cafe-3
LOCATION:- - -
STATUS:CONFIRMED
CATEGORIES:Kolleg,Loki-Lounge,Saal
END:VEVENT
BEGIN:VEVENT
UID:4769@localhost
SUMMARY:Subotnik
DTSTAMP:20260420T031118Z
DTSTART:20260614T120000Z
DTEND:20260614T160000Z
URL:https://centrosociale.de/event/subotnik-2
LOCATION:- - -
STATUS:CONFIRMED
CATEGORIES:Büro,Kolleg,Kolleg-Vorraum,Kubus,Loki-Lounge,Saal,Werkstatt
END:VEVENT
BEGIN:VEVENT
UID:1006@localhost
SUMMARY:Arbeitskreis SoWi
DTSTAMP:20260420T031118Z
DTSTART:20260615T170000Z
URL:https://centrosociale.de/event/arbeitskreis-sowi-20
LOCATION:- - -
STATUS:CONFIRMED
CATEGORIES:,Büro,Kolleg,Kolleg-Vorraum,Kubus,Loki-Lounge
END:VEVENT
BEGIN:VEVENT
UID:1019@localhost
SUMMARY:Arbeitskreis SoWi
DTSTAMP:20260420T031118Z
DTSTART:20260622T170000Z
URL:https://centrosociale.de/event/arbeitskreis-sowi-33
LOCATION:- - -
STATUS:CONFIRMED
CATEGORIES:,Büro,Kolleg,Kolleg-Vorraum,Kubus,Loki-Lounge
END:VEVENT
BEGIN:VEVENT
UID:128@localhost
SUMMARY:Arbeitskreis SoWi
DTSTAMP:20260420T031118Z
DTSTART:20260706T170000Z
URL:https://centrosociale.de/event/arbeitskreis-sowi-7
LOCATION:- - -
STATUS:CONFIRMED
CATEGORIES:,Büro,Kolleg,Kolleg-Vorraum,Kubus,Loki-Lounge
END:VEVENT
BEGIN:VEVENT
UID:4516@localhost
SUMMARY:Offenes Cafe
DTSTAMP:20260420T031118Z
DTSTART:20260709T150000Z
DTEND:20260709T200000Z
URL:https://centrosociale.de/event/offenes-cafe-4
LOCATION:- - -
STATUS:CONFIRMED
CATEGORIES:Kolleg,Loki-Lounge,Saal
END:VEVENT
BEGIN:VEVENT
UID:993@localhost
SUMMARY:ANGEFRAGT: Arbeitskreis SoWi
DTSTAMP:20260420T031118Z
DTSTART:20260713T170000Z
URL:https://centrosociale.de/event/angefragt-arbeitskreis-sowi-7
LOCATION:- - -
STATUS:CONFIRMED
CATEGORIES:,Büro,Kolleg,Kolleg-Vorraum,Kubus,Loki-Lounge
END:VEVENT
BEGIN:VEVENT
UID:1007@localhost
SUMMARY:Arbeitskreis SoWi
DTSTAMP:20260420T031118Z
DTSTART:20260720T170000Z
URL:https://centrosociale.de/event/arbeitskreis-sowi-21
LOCATION:- - -
STATUS:CONFIRMED
CATEGORIES:,Büro,Kolleg,Kolleg-Vorraum,Kubus,Loki-Lounge
END:VEVENT
BEGIN:VEVENT
UID:1020@localhost
SUMMARY:Arbeitskreis SoWi
DTSTAMP:20260420T031118Z
DTSTART:20260727T170000Z
URL:https://centrosociale.de/event/arbeitskreis-sowi-34
LOCATION:- - -
STATUS:CONFIRMED
CATEGORIES:,Büro,Kolleg,Kolleg-Vorraum,Kubus,Loki-Lounge
END:VEVENT
BEGIN:VEVENT
UID:129@localhost
SUMMARY:Arbeitskreis SoWi
DTSTAMP:20260420T031118Z
DTSTART:20260803T170000Z
URL:https://centrosociale.de/event/arbeitskreis-sowi-8
LOCATION:- - -
STATUS:CONFIRMED
CATEGORIES:,Büro,Kolleg,Kolleg-Vorraum,Kubus,Loki-Lounge
END:VEVENT
BEGIN:VEVENT
UID:994@localhost
SUMMARY:ANGEFRAGT: Arbeitskreis SoWi
DTSTAMP:20260420T031118Z
DTSTART:20260810T170000Z
URL:https://centrosociale.de/event/angefragt-arbeitskreis-sowi-8
LOCATION:- - -
STATUS:CONFIRMED
CATEGORIES:,Büro,Kolleg,Kolleg-Vorraum,Kubus,Loki-Lounge
END:VEVENT
BEGIN:VEVENT
UID:4517@localhost
SUMMARY:Offenes Cafe
DTSTAMP:20260420T031118Z
DTSTART:20260813T150000Z
DTEND:20260813T200000Z
URL:https://centrosociale.de/event/offenes-cafe-5
LOCATION:- - -
STATUS:CONFIRMED
CATEGORIES:Kolleg,Loki-Lounge,Saal
END:VEVENT
BEGIN:VEVENT
UID:1008@localhost
SUMMARY:Arbeitskreis SoWi
DTSTAMP:20260420T031118Z
DTSTART:20260817T170000Z
URL:https://centrosociale.de/event/arbeitskreis-sowi-22
LOCATION:- - -
STATUS:CONFIRMED
CATEGORIES:,Büro,Kolleg,Kolleg-Vorraum,Kubus,Loki-Lounge
END:VEVENT
BEGIN:VEVENT
UID:1021@localhost
SUMMARY:Arbeitskreis SoWi
DTSTAMP:20260420T031118Z
DTSTART:20260824T170000Z
URL:https://centrosociale.de/event/arbeitskreis-sowi-35
LOCATION:- - -
STATUS:CONFIRMED
CATEGORIES:,Büro,Kolleg,Kolleg-Vorraum,Kubus,Loki-Lounge
END:VEVENT
BEGIN:VEVENT
UID:130@localhost
SUMMARY:Arbeitskreis SoWi
DTSTAMP:20260420T031118Z
DTSTART:20260907T170000Z
URL:https://centrosociale.de/event/arbeitskreis-sowi-9
LOCATION:- - -
STATUS:CONFIRMED
CATEGORIES:,Büro,Kolleg,Kolleg-Vorraum,Kubus,Loki-Lounge
END:VEVENT
BEGIN:VEVENT
UID:4518@localhost
SUMMARY:Offenes Cafe
DTSTAMP:20260420T031118Z
DTSTART:20260910T150000Z
DTEND:20260910T200000Z
URL:https://centrosociale.de/event/offenes-cafe-6
LOCATION:- - -
STATUS:CONFIRMED
CATEGORIES:Kolleg,Loki-Lounge,Saal
END:VEVENT
BEGIN:VEVENT
UID:995@localhost
SUMMARY:ANGEFRAGT: Arbeitskreis SoWi
DTSTAMP:20260420T031118Z
DTSTART:20260914T170000Z
URL:https://centrosociale.de/event/angefragt-arbeitskreis-sowi-9
LOCATION:- - -
STATUS:CONFIRMED
CATEGORIES:,Büro,Kolleg,Kolleg-Vorraum,Kubus,Loki-Lounge
END:VEVENT
BEGIN:VEVENT
UID:1009@localhost
SUMMARY:Arbeitskreis SoWi
DTSTAMP:20260420T031118Z
DTSTART:20260921T170000Z
URL:https://centrosociale.de/event/arbeitskreis-sowi-23
LOCATION:- - -
STATUS:CONFIRMED
CATEGORIES:,Büro,Kolleg,Kolleg-Vorraum,Kubus,Loki-Lounge
END:VEVENT
BEGIN:VEVENT
UID:1022@localhost
SUMMARY:Arbeitskreis SoWi
DTSTAMP:20260420T031118Z
DTSTART:20260928T170000Z
URL:https://centrosociale.de/event/arbeitskreis-sowi-36
LOCATION:- - -
STATUS:CONFIRMED
CATEGORIES:,Büro,Kolleg,Kolleg-Vorraum,Kubus,Loki-Lounge
END:VEVENT
BEGIN:VEVENT
UID:131@localhost
SUMMARY:Arbeitskreis SoWi
DTSTAMP:20260420T031118Z
DTSTART:20261005T170000Z
URL:https://centrosociale.de/event/arbeitskreis-sowi-10
LOCATION:- - -
STATUS:CONFIRMED
CATEGORIES:,Büro,Kolleg,Kolleg-Vorraum,Kubus,Loki-Lounge
END:VEVENT
BEGIN:VEVENT
UID:4519@localhost
SUMMARY:Offenes Cafe
DTSTAMP:20260420T031118Z
DTSTART:20261008T150000Z
DTEND:20261008T200000Z
URL:https://centrosociale.de/event/offenes-cafe-7
LOCATION:- - -
STATUS:CONFIRMED
CATEGORIES:Kolleg,Loki-Lounge,Saal
END:VEVENT
BEGIN:VEVENT
UID:996@localhost
SUMMARY:ANGEFRAGT: Arbeitskreis SoWi
DTSTAMP:20260420T031118Z
DTSTART:20261012T170000Z
URL:https://centrosociale.de/event/angefragt-arbeitskreis-sowi-10
LOCATION:- - -
STATUS:CONFIRMED
CATEGORIES:,Büro,Kolleg,Kolleg-Vorraum,Kubus,Loki-Lounge
END:VEVENT
BEGIN:VEVENT
UID:1010@localhost
SUMMARY:Arbeitskreis SoWi
DTSTAMP:20260420T031118Z
DTSTART:20261019T170000Z
URL:https://centrosociale.de/event/arbeitskreis-sowi-24
LOCATION:- - -
STATUS:CONFIRMED
CATEGORIES:,Büro,Kolleg,Kolleg-Vorraum,Kubus,Loki-Lounge
END:VEVENT
BEGIN:VEVENT
UID:1023@localhost
SUMMARY:Arbeitskreis SoWi
DTSTAMP:20260420T031118Z
DTSTART:20261026T180000Z
URL:https://centrosociale.de/event/arbeitskreis-sowi-37
LOCATION:- - -
STATUS:CONFIRMED
CATEGORIES:,Büro,Kolleg,Kolleg-Vorraum,Kubus,Loki-Lounge
END:VEVENT
BEGIN:VEVENT
UID:132@localhost
SUMMARY:Arbeitskreis SoWi
DTSTAMP:20260420T031118Z
DTSTART:20261102T180000Z
URL:https://centrosociale.de/event/arbeitskreis-sowi-11
LOCATION:- - -
STATUS:CONFIRMED
CATEGORIES:,Büro,Kolleg,Kolleg-Vorraum,Kubus,Loki-Lounge
END:VEVENT
BEGIN:VEVENT
UID:997@localhost
SUMMARY:ANGEFRAGT: Arbeitskreis SoWi
DTSTAMP:20260420T031118Z
DTSTART:20261109T180000Z
URL:https://centrosociale.de/event/angefragt-arbeitskreis-sowi-11
LOCATION:- - -
STATUS:CONFIRMED
CATEGORIES:,Büro,Kolleg,Kolleg-Vorraum,Kubus,Loki-Lounge
END:VEVENT
BEGIN:VEVENT
UID:4520@localhost
SUMMARY:Offenes Cafe
DTSTAMP:20260420T031118Z
DTSTART:20261112T160000Z
DTEND:20261112T210000Z
URL:https://centrosociale.de/event/offenes-cafe-8
LOCATION:- - -
STATUS:CONFIRMED
CATEGORIES:Kolleg,Loki-Lounge,Saal
END:VEVENT
BEGIN:VEVENT
UID:4958@localhost
SUMMARY:ANGEFRAGT: Swahili Kulturfestival 2026
DTSTAMP:20260420T031118Z
DTSTART:20261114T050000Z
DTEND:20261114T220000Z
URL:https://centrosociale.de/event/angefragt-swahili-kulturfestival-2026
LOCATION:- - -
STATUS:CONFIRMED
CATEGORIES:Büro,Kolleg,Loki-Lounge,Saal,laut
END:VEVENT
BEGIN:VEVENT
UID:1011@localhost
SUMMARY:Arbeitskreis SoWi
DTSTAMP:20260420T031118Z
DTSTART:20261116T180000Z
URL:https://centrosociale.de/event/arbeitskreis-sowi-25
LOCATION:- - -
STATUS:CONFIRMED
CATEGORIES:,Büro,Kolleg,Kolleg-Vorraum,Kubus,Loki-Lounge
END:VEVENT
BEGIN:VEVENT
UID:983@localhost
SUMMARY:P99 Zukunftstag 2026
DTSTAMP:20260420T031118Z
DTSTART:20261121T090000Z
DTEND:20261122T020000Z
URL:https://centrosociale.de/event/p99-zukunftstag-2026
LOCATION:- - -
STATUS:CONFIRMED
CATEGORIES:Büro,Kolleg,Kolleg-Vorraum,Kubus,Loki-Lounge,Saal,Werkstatt,laut
END:VEVENT
BEGIN:VEVENT
UID:1024@localhost
SUMMARY:Arbeitskreis SoWi
DTSTAMP:20260420T031118Z
DTSTART:20261123T180000Z
URL:https://centrosociale.de/event/arbeitskreis-sowi-38
LOCATION:- - -
STATUS:CONFIRMED
CATEGORIES:,Büro,Kolleg,Kolleg-Vorraum,Kubus,Loki-Lounge
END:VEVENT
BEGIN:VEVENT
UID:133@localhost
SUMMARY:Arbeitskreis SoWi
DTSTAMP:20260420T031118Z
DTSTART:20261207T180000Z
URL:https://centrosociale.de/event/arbeitskreis-sowi-12
LOCATION:- - -
STATUS:CONFIRMED
CATEGORIES:,Büro,Kolleg,Kolleg-Vorraum,Kubus,Loki-Lounge
END:VEVENT
BEGIN:VEVENT
UID:4521@localhost
SUMMARY:Offenes Cafe
DTSTAMP:20260420T031118Z
DTSTART:20261210T160000Z
DTEND:20261210T210000Z
URL:https://centrosociale.de/event/offenes-cafe-9
LOCATION:- - -
STATUS:CONFIRMED
CATEGORIES:Kolleg,Loki-Lounge,Saal
END:VEVENT
BEGIN:VEVENT
UID:998@localhost
SUMMARY:ANGEFRAGT: Arbeitskreis SoWi
DTSTAMP:20260420T031118Z
DTSTART:20261214T180000Z
URL:https://centrosociale.de/event/angefragt-arbeitskreis-sowi-12
LOCATION:- - -
STATUS:CONFIRMED
CATEGORIES:,Büro,Kolleg,Kolleg-Vorraum,Kubus,Loki-Lounge
END:VEVENT
BEGIN:VEVENT
UID:2117@localhost
SUMMARY:Arbeitskreis SoWi
DTSTAMP:20260420T031118Z
DTSTART:20261221T180000Z
URL:https://centrosociale.de/event/arbeitskreis-sowi-39
LOCATION:- - -
STATUS:CONFIRMED
CATEGORIES:,Büro,Kolleg,Kolleg-Vorraum,Kubus,Loki-Lounge
END:VEVENT
BEGIN:VEVENT
UID:2211@localhost
SUMMARY:Arbeitskreis SoWi
DTSTAMP:20260420T031118Z
DTSTART:20261228T180000Z
URL:https://centrosociale.de/event/arbeitskreis-sowi-40
LOCATION:- - -
STATUS:CONFIRMED
CATEGORIES:,Büro,Kolleg,Kolleg-Vorraum,Kubus,Loki-Lounge
END:VEVENT
BEGIN:VEVENT
UID:3760@localhost
SUMMARY:Arbeitskreis SoWi
DTSTAMP:20260420T031118Z
DTSTART:20270104T180000Z
URL:https://centrosociale.de/event/arbeitskreis-sowi-41
LOCATION:- - -
STATUS:CONFIRMED
CATEGORIES:,Büro,Kolleg,Kolleg-Vorraum,Kubus,Loki-Lounge
END:VEVENT
BEGIN:VEVENT
UID:3804@localhost
SUMMARY:ANGEFRAGT: Arbeitskreis SoWi
DTSTAMP:20260420T031118Z
DTSTART:20270111T180000Z
URL:https://centrosociale.de/event/angefragt-arbeitskreis-sowi-13
LOCATION:- - -
STATUS:CONFIRMED
CATEGORIES:,Büro,Kolleg,Kolleg-Vorraum,Kubus,Loki-Lounge
END:VEVENT
BEGIN:VEVENT
UID:4522@localhost
SUMMARY:Offenes Cafe
DTSTAMP:20260420T031118Z
DTSTART:20270114T160000Z
DTEND:20270114T210000Z
URL:https://centrosociale.de/event/offenes-cafe-10
LOCATION:- - -
STATUS:CONFIRMED
CATEGORIES:Kolleg,Loki-Lounge,Saal
END:VEVENT
BEGIN:VEVENT
UID:4120@localhost
SUMMARY:Arbeitskreis SoWi
DTSTAMP:20260420T031118Z
DTSTART:20270118T180000Z
URL:https://centrosociale.de/event/arbeitskreis-sowi-42
LOCATION:- - -
STATUS:CONFIRMED
CATEGORIES:,Büro,Kolleg,Kolleg-Vorraum,Kubus,Loki-Lounge
END:VEVENT
BEGIN:VEVENT
UID:4217@localhost
SUMMARY:Arbeitskreis SoWi
DTSTAMP:20260420T031118Z
DTSTART:20270125T180000Z
URL:https://centrosociale.de/event/arbeitskreis-sowi-43
LOCATION:- - -
STATUS:CONFIRMED
CATEGORIES:,Büro,Kolleg,Kolleg-Vorraum,Kubus,Loki-Lounge
END:VEVENT
BEGIN:VEVENT
UID:4272@localhost
SUMMARY:Arbeitskreis SoWi
DTSTAMP:20260420T031118Z
DTSTART:20270201T180000Z
URL:https://centrosociale.de/event/arbeitskreis-sowi-44
LOCATION:- - -
STATUS:CONFIRMED
CATEGORIES:,Büro,Kolleg,Kolleg-Vorraum,Kubus,Loki-Lounge
END:VEVENT
BEGIN:VEVENT
UID:4456@localhost
SUMMARY:ANGEFRAGT: Arbeitskreis SoWi
DTSTAMP:20260420T031118Z
DTSTART:20270208T180000Z
URL:https://centrosociale.de/event/angefragt-arbeitskreis-sowi-14
LOCATION:- - -
STATUS:CONFIRMED
CATEGORIES:,Büro,Kolleg,Kolleg-Vorraum,Kubus,Loki-Lounge
END:VEVENT
BEGIN:VEVENT
UID:4523@localhost
SUMMARY:Offenes Cafe
DTSTAMP:20260420T031118Z
DTSTART:20270211T160000Z
DTEND:20270211T210000Z
URL:https://centrosociale.de/event/offenes-cafe-11
LOCATION:- - -
STATUS:CONFIRMED
CATEGORIES:Kolleg,Loki-Lounge,Saal
END:VEVENT
BEGIN:VEVENT
UID:4534@localhost
SUMMARY:Arbeitskreis SoWi
DTSTAMP:20260420T031118Z
DTSTART:20270215T180000Z
URL:https://centrosociale.de/event/arbeitskreis-sowi-45
LOCATION:- - -
STATUS:CONFIRMED
CATEGORIES:,Büro,Kolleg,Kolleg-Vorraum,Kubus,Loki-Lounge
END:VEVENT
BEGIN:VEVENT
UID:4578@localhost
SUMMARY:Arbeitskreis SoWi
DTSTAMP:20260420T031118Z
DTSTART:20270222T180000Z
URL:https://centrosociale.de/event/arbeitskreis-sowi-46
LOCATION:- - -
STATUS:CONFIRMED
CATEGORIES:,Büro,Kolleg,Kolleg-Vorraum,Kubus,Loki-Lounge
END:VEVENT
BEGIN:VEVENT
UID:4624@localhost
SUMMARY:Arbeitskreis SoWi
DTSTAMP:20260420T031118Z
DTSTART:20270301T180000Z
URL:https://centrosociale.de/event/arbeitskreis-sowi-47
LOCATION:- - -
STATUS:CONFIRMED
CATEGORIES:,Büro,Kolleg,Kolleg-Vorraum,Kubus,Loki-Lounge
END:VEVENT
BEGIN:VEVENT
UID:4719@localhost
SUMMARY:ANGEFRAGT: Arbeitskreis SoWi
DTSTAMP:20260420T031118Z
DTSTART:20270308T180000Z
URL:https://centrosociale.de/event/angefragt-arbeitskreis-sowi-15
LOCATION:- - -
STATUS:CONFIRMED
CATEGORIES:,Büro,Kolleg,Kolleg-Vorraum,Kubus,Loki-Lounge
END:VEVENT
BEGIN:VEVENT
UID:4755@localhost
SUMMARY:Offenes Cafe
DTSTAMP:20260420T031118Z
DTSTART:20270311T160000Z
DTEND:20270311T210000Z
URL:https://centrosociale.de/event/offenes-cafe-12
LOCATION:- - -
STATUS:CONFIRMED
CATEGORIES:Kolleg,Loki-Lounge,Saal
END:VEVENT
BEGIN:VEVENT
UID:4772@localhost
SUMMARY:Arbeitskreis SoWi
DTSTAMP:20260420T031118Z
DTSTART:20270315T180000Z
URL:https://centrosociale.de/event/arbeitskreis-sowi-48
LOCATION:- - -
STATUS:CONFIRMED
CATEGORIES:,Büro,Kolleg,Kolleg-Vorraum,Kubus,Loki-Lounge
END:VEVENT
BEGIN:VEVENT
UID:4813@localhost
SUMMARY:Arbeitskreis SoWi
DTSTAMP:20260420T031118Z
DTSTART:20270322T180000Z
URL:https://centrosociale.de/event/arbeitskreis-sowi-49
LOCATION:- - -
STATUS:CONFIRMED
CATEGORIES:,Büro,Kolleg,Kolleg-Vorraum,Kubus,Loki-Lounge
END:VEVENT
BEGIN:VEVENT
UID:4963@localhost
SUMMARY:Arbeitskreis SoWi
DTSTAMP:20260420T031118Z
DTSTART:20270405T170000Z
URL:https://centrosociale.de/event/arbeitskreis-sowi-50
LOCATION:- - -
STATUS:CONFIRMED
CATEGORIES:,Büro,Kolleg,Kolleg-Vorraum,Kubus,Loki-Lounge
END:VEVENT
BEGIN:VEVENT
UID:4988@localhost
SUMMARY:Offenes Cafe
DTSTAMP:20260420T031118Z
DTSTART:20270408T150000Z
DTEND:20270408T200000Z
URL:https://centrosociale.de/event/offenes-cafe-13
LOCATION:- - -
STATUS:CONFIRMED
CATEGORIES:Kolleg,Loki-Lounge,Saal
END:VEVENT
BEGIN:VEVENT
UID:5007@localhost
SUMMARY:ANGEFRAGT: Arbeitskreis SoWi
DTSTAMP:20260420T031118Z
DTSTART:20270412T170000Z
URL:https://centrosociale.de/event/angefragt-arbeitskreis-sowi-16
LOCATION:- - -
STATUS:CONFIRMED
CATEGORIES:,Büro,Kolleg,Kolleg-Vorraum,Kubus,Loki-Lounge
END:VEVENT
END:VCALENDAR
