BEGIN:VCALENDAR
VERSION:2.0
CALSCALE:GREGORIAN
PRODID:adamgibbons/ics
METHOD:PUBLISH
X-PUBLISHED-TTL:PT1H
BEGIN:VEVENT
UID:4426@localhost
SUMMARY:Offenes Vorstandstreffen
DTSTAMP:20260420T032044Z
DTSTART:20260422T160000Z
DTEND:20260422T180000Z
URL:https://centrosociale.de/event/offenes-vorstandstreffen-60
LOCATION:- - -
STATUS:CONFIRMED
CATEGORIES:Turmzimmer
END:VEVENT
BEGIN:VEVENT
UID:4439@localhost
SUMMARY:Offenes Vorstandstreffen
DTSTAMP:20260420T032044Z
DTSTART:20260429T160000Z
DTEND:20260429T180000Z
URL:https://centrosociale.de/event/offenes-vorstandstreffen-73
LOCATION:- - -
STATUS:CONFIRMED
CATEGORIES:Turmzimmer
END:VEVENT
BEGIN:VEVENT
UID:4414@localhost
SUMMARY:Offenes Vorstandstreffen
DTSTAMP:20260420T032044Z
DTSTART:20260513T160000Z
DTEND:20260513T180000Z
URL:https://centrosociale.de/event/offenes-vorstandstreffen-48
LOCATION:- - -
STATUS:CONFIRMED
CATEGORIES:Turmzimmer
END:VEVENT
BEGIN:VEVENT
UID:4427@localhost
SUMMARY:Offenes Vorstandstreffen
DTSTAMP:20260420T032044Z
DTSTART:20260527T160000Z
DTEND:20260527T180000Z
URL:https://centrosociale.de/event/offenes-vorstandstreffen-61
LOCATION:- - -
STATUS:CONFIRMED
CATEGORIES:Turmzimmer
END:VEVENT
BEGIN:VEVENT
UID:4440@localhost
SUMMARY:Offenes Vorstandstreffen
DTSTAMP:20260420T032044Z
DTSTART:20260527T160000Z
DTEND:20260527T180000Z
URL:https://centrosociale.de/event/offenes-vorstandstreffen-74
LOCATION:- - -
STATUS:CONFIRMED
CATEGORIES:Turmzimmer
END:VEVENT
BEGIN:VEVENT
UID:4415@localhost
SUMMARY:Offenes Vorstandstreffen
DTSTAMP:20260420T032044Z
DTSTART:20260610T160000Z
DTEND:20260610T180000Z
URL:https://centrosociale.de/event/offenes-vorstandstreffen-49
LOCATION:- - -
STATUS:CONFIRMED
CATEGORIES:Turmzimmer
END:VEVENT
BEGIN:VEVENT
UID:4428@localhost
SUMMARY:Offenes Vorstandstreffen
DTSTAMP:20260420T032044Z
DTSTART:20260624T160000Z
DTEND:20260624T180000Z
URL:https://centrosociale.de/event/offenes-vorstandstreffen-62
LOCATION:- - -
STATUS:CONFIRMED
CATEGORIES:Turmzimmer
END:VEVENT
BEGIN:VEVENT
UID:4441@localhost
SUMMARY:Offenes Vorstandstreffen
DTSTAMP:20260420T032044Z
DTSTART:20260624T160000Z
DTEND:20260624T180000Z
URL:https://centrosociale.de/event/offenes-vorstandstreffen-75
LOCATION:- - -
STATUS:CONFIRMED
CATEGORIES:Turmzimmer
END:VEVENT
BEGIN:VEVENT
UID:4416@localhost
SUMMARY:Offenes Vorstandstreffen
DTSTAMP:20260420T032044Z
DTSTART:20260708T160000Z
DTEND:20260708T180000Z
URL:https://centrosociale.de/event/offenes-vorstandstreffen-50
LOCATION:- - -
STATUS:CONFIRMED
CATEGORIES:Turmzimmer
END:VEVENT
BEGIN:VEVENT
UID:4429@localhost
SUMMARY:Offenes Vorstandstreffen
DTSTAMP:20260420T032044Z
DTSTART:20260722T160000Z
DTEND:20260722T180000Z
URL:https://centrosociale.de/event/offenes-vorstandstreffen-63
LOCATION:- - -
STATUS:CONFIRMED
CATEGORIES:Turmzimmer
END:VEVENT
BEGIN:VEVENT
UID:4442@localhost
SUMMARY:Offenes Vorstandstreffen
DTSTAMP:20260420T032044Z
DTSTART:20260729T160000Z
DTEND:20260729T180000Z
URL:https://centrosociale.de/event/offenes-vorstandstreffen-76
LOCATION:- - -
STATUS:CONFIRMED
CATEGORIES:Turmzimmer
END:VEVENT
BEGIN:VEVENT
UID:4417@localhost
SUMMARY:Offenes Vorstandstreffen
DTSTAMP:20260420T032044Z
DTSTART:20260812T160000Z
DTEND:20260812T180000Z
URL:https://centrosociale.de/event/offenes-vorstandstreffen-51
LOCATION:- - -
STATUS:CONFIRMED
CATEGORIES:Turmzimmer
END:VEVENT
BEGIN:VEVENT
UID:4430@localhost
SUMMARY:Offenes Vorstandstreffen
DTSTAMP:20260420T032044Z
DTSTART:20260826T160000Z
DTEND:20260826T180000Z
URL:https://centrosociale.de/event/offenes-vorstandstreffen-64
LOCATION:- - -
STATUS:CONFIRMED
CATEGORIES:Turmzimmer
END:VEVENT
BEGIN:VEVENT
UID:4443@localhost
SUMMARY:Offenes Vorstandstreffen
DTSTAMP:20260420T032044Z
DTSTART:20260826T160000Z
DTEND:20260826T180000Z
URL:https://centrosociale.de/event/offenes-vorstandstreffen-77
LOCATION:- - -
STATUS:CONFIRMED
CATEGORIES:Turmzimmer
END:VEVENT
BEGIN:VEVENT
UID:4418@localhost
SUMMARY:Offenes Vorstandstreffen
DTSTAMP:20260420T032044Z
DTSTART:20260909T160000Z
DTEND:20260909T180000Z
URL:https://centrosociale.de/event/offenes-vorstandstreffen-52
LOCATION:- - -
STATUS:CONFIRMED
CATEGORIES:Turmzimmer
END:VEVENT
BEGIN:VEVENT
UID:4431@localhost
SUMMARY:Offenes Vorstandstreffen
DTSTAMP:20260420T032044Z
DTSTART:20260923T160000Z
DTEND:20260923T180000Z
URL:https://centrosociale.de/event/offenes-vorstandstreffen-65
LOCATION:- - -
STATUS:CONFIRMED
CATEGORIES:Turmzimmer
END:VEVENT
BEGIN:VEVENT
UID:4444@localhost
SUMMARY:Offenes Vorstandstreffen
DTSTAMP:20260420T032044Z
DTSTART:20260930T160000Z
DTEND:20260930T180000Z
URL:https://centrosociale.de/event/offenes-vorstandstreffen-78
LOCATION:- - -
STATUS:CONFIRMED
CATEGORIES:Turmzimmer
END:VEVENT
BEGIN:VEVENT
UID:4419@localhost
SUMMARY:Offenes Vorstandstreffen
DTSTAMP:20260420T032044Z
DTSTART:20261014T160000Z
DTEND:20261014T180000Z
URL:https://centrosociale.de/event/offenes-vorstandstreffen-53
LOCATION:- - -
STATUS:CONFIRMED
CATEGORIES:Turmzimmer
END:VEVENT
BEGIN:VEVENT
UID:4432@localhost
SUMMARY:Offenes Vorstandstreffen
DTSTAMP:20260420T032044Z
DTSTART:20261028T170000Z
DTEND:20261028T190000Z
URL:https://centrosociale.de/event/offenes-vorstandstreffen-66
LOCATION:- - -
STATUS:CONFIRMED
CATEGORIES:Turmzimmer
END:VEVENT
BEGIN:VEVENT
UID:4445@localhost
SUMMARY:Offenes Vorstandstreffen
DTSTAMP:20260420T032044Z
DTSTART:20261028T170000Z
DTEND:20261028T190000Z
URL:https://centrosociale.de/event/offenes-vorstandstreffen-79
LOCATION:- - -
STATUS:CONFIRMED
CATEGORIES:Turmzimmer
END:VEVENT
BEGIN:VEVENT
UID:4420@localhost
SUMMARY:Offenes Vorstandstreffen
DTSTAMP:20260420T032044Z
DTSTART:20261111T170000Z
DTEND:20261111T190000Z
URL:https://centrosociale.de/event/offenes-vorstandstreffen-54
LOCATION:- - -
STATUS:CONFIRMED
CATEGORIES:Turmzimmer
END:VEVENT
BEGIN:VEVENT
UID:4433@localhost
SUMMARY:Offenes Vorstandstreffen
DTSTAMP:20260420T032044Z
DTSTART:20261125T170000Z
DTEND:20261125T190000Z
URL:https://centrosociale.de/event/offenes-vorstandstreffen-67
LOCATION:- - -
STATUS:CONFIRMED
CATEGORIES:Turmzimmer
END:VEVENT
BEGIN:VEVENT
UID:4446@localhost
SUMMARY:Offenes Vorstandstreffen
DTSTAMP:20260420T032044Z
DTSTART:20261125T170000Z
DTEND:20261125T190000Z
URL:https://centrosociale.de/event/offenes-vorstandstreffen-80
LOCATION:- - -
STATUS:CONFIRMED
CATEGORIES:Turmzimmer
END:VEVENT
BEGIN:VEVENT
UID:4421@localhost
SUMMARY:Offenes Vorstandstreffen
DTSTAMP:20260420T032044Z
DTSTART:20261209T170000Z
DTEND:20261209T190000Z
URL:https://centrosociale.de/event/offenes-vorstandstreffen-55
LOCATION:- - -
STATUS:CONFIRMED
CATEGORIES:Turmzimmer
END:VEVENT
BEGIN:VEVENT
UID:4434@localhost
SUMMARY:Offenes Vorstandstreffen
DTSTAMP:20260420T032044Z
DTSTART:20261223T170000Z
DTEND:20261223T190000Z
URL:https://centrosociale.de/event/offenes-vorstandstreffen-68
LOCATION:- - -
STATUS:CONFIRMED
CATEGORIES:Turmzimmer
END:VEVENT
BEGIN:VEVENT
UID:4447@localhost
SUMMARY:Offenes Vorstandstreffen
DTSTAMP:20260420T032044Z
DTSTART:20261230T170000Z
DTEND:20261230T190000Z
URL:https://centrosociale.de/event/offenes-vorstandstreffen-81
LOCATION:- - -
STATUS:CONFIRMED
CATEGORIES:Turmzimmer
END:VEVENT
BEGIN:VEVENT
UID:4422@localhost
SUMMARY:Offenes Vorstandstreffen
DTSTAMP:20260420T032044Z
DTSTART:20270113T170000Z
DTEND:20270113T190000Z
URL:https://centrosociale.de/event/offenes-vorstandstreffen-56
LOCATION:- - -
STATUS:CONFIRMED
CATEGORIES:Turmzimmer
END:VEVENT
BEGIN:VEVENT
UID:4435@localhost
SUMMARY:Offenes Vorstandstreffen
DTSTAMP:20260420T032044Z
DTSTART:20270127T170000Z
DTEND:20270127T190000Z
URL:https://centrosociale.de/event/offenes-vorstandstreffen-69
LOCATION:- - -
STATUS:CONFIRMED
CATEGORIES:Turmzimmer
END:VEVENT
BEGIN:VEVENT
UID:4448@localhost
SUMMARY:Offenes Vorstandstreffen
DTSTAMP:20260420T032044Z
DTSTART:20270127T170000Z
DTEND:20270127T190000Z
URL:https://centrosociale.de/event/offenes-vorstandstreffen-82
LOCATION:- - -
STATUS:CONFIRMED
CATEGORIES:Turmzimmer
END:VEVENT
BEGIN:VEVENT
UID:4598@localhost
SUMMARY:Offenes Vorstandstreffen
DTSTAMP:20260420T032044Z
DTSTART:20270127T170000Z
DTEND:20270127T190000Z
URL:https://centrosociale.de/event/offenes-vorstandstreffen-3
LOCATION:- - -
STATUS:CONFIRMED
CATEGORIES:Turmzimmer
END:VEVENT
BEGIN:VEVENT
UID:4831@localhost
SUMMARY:Offenes Vorstandstreffen
DTSTAMP:20260420T032044Z
DTSTART:20270127T170000Z
DTEND:20270127T190000Z
URL:https://centrosociale.de/event/offenes-vorstandstreffen-5
LOCATION:- - -
STATUS:CONFIRMED
CATEGORIES:Turmzimmer
END:VEVENT
BEGIN:VEVENT
UID:4484@localhost
SUMMARY:Offenes Vorstandstreffen
DTSTAMP:20260420T032044Z
DTSTART:20270210T170000Z
DTEND:20270210T190000Z
URL:https://centrosociale.de/event/offenes-vorstandstreffen
LOCATION:- - -
STATUS:CONFIRMED
CATEGORIES:Turmzimmer
END:VEVENT
BEGIN:VEVENT
UID:4594@localhost
SUMMARY:Offenes Vorstandstreffen
DTSTAMP:20260420T032044Z
DTSTART:20270224T170000Z
DTEND:20270224T190000Z
URL:https://centrosociale.de/event/offenes-vorstandstreffen-2
LOCATION:- - -
STATUS:CONFIRMED
CATEGORIES:Turmzimmer
END:VEVENT
BEGIN:VEVENT
UID:4737@localhost
SUMMARY:Offenes Vorstandstreffen
DTSTAMP:20260420T032044Z
DTSTART:20270310T170000Z
DTEND:20270310T190000Z
URL:https://centrosociale.de/event/offenes-vorstandstreffen-4
LOCATION:- - -
STATUS:CONFIRMED
CATEGORIES:Turmzimmer
END:VEVENT
BEGIN:VEVENT
UID:4834@localhost
SUMMARY:Offenes Vorstandstreffen
DTSTAMP:20260420T032044Z
DTSTART:20270324T170000Z
DTEND:20270324T190000Z
URL:https://centrosociale.de/event/offenes-vorstandstreffen-6
LOCATION:- - -
STATUS:CONFIRMED
CATEGORIES:Turmzimmer
END:VEVENT
BEGIN:VEVENT
UID:4978@localhost
SUMMARY:Offenes Vorstandstreffen
DTSTAMP:20260420T032044Z
DTSTART:20270414T160000Z
DTEND:20270414T180000Z
URL:https://centrosociale.de/event/offenes-vorstandstreffen-7
LOCATION:- - -
STATUS:CONFIRMED
CATEGORIES:Turmzimmer
END:VEVENT
END:VCALENDAR
