BEGIN:VCALENDAR
VERSION:2.0
CALSCALE:GREGORIAN
PRODID:adamgibbons/ics
METHOD:PUBLISH
X-PUBLISHED-TTL:PT1H
BEGIN:VEVENT
UID:3768@localhost
SUMMARY:50.Geburtstag Tine St.Pauli
DTSTAMP:20260420T044635Z
DTSTART:20260502T173000Z
DTEND:20260503T010000Z
URL:https://centrosociale.de/event/angefragt-50geburtstag-tine-stpauli
LOCATION:- - -
STATUS:CONFIRMED
CATEGORIES:Saal,laut
END:VEVENT
BEGIN:VEVENT
UID:4278@localhost
SUMMARY:ANGEFRAGT: 20er Geburtstag 3 Mädels
DTSTAMP:20260420T044635Z
DTSTART:20260523T190000Z
DTEND:20260524T040000Z
URL:https://centrosociale.de/event/angefragt-20er-geburtstag-3-madels
LOCATION:- - -
STATUS:CONFIRMED
CATEGORIES:Saal,laut
END:VEVENT
BEGIN:VEVENT
UID:975@localhost
SUMMARY:Paula‘s Geburtstagsfeier
DTSTAMP:20260420T044635Z
DTSTART:20260606T160000Z
URL:https://centrosociale.de/event/paulas-geburtstagsfeier
LOCATION:- - -
STATUS:CONFIRMED
CATEGORIES:Kolleg,Kolleg-Vorraum,Kubus,Loki-Lounge,Saal,laut
END:VEVENT
BEGIN:VEVENT
UID:976@localhost
SUMMARY:Tanzen!
DTSTAMP:20260420T044635Z
DTSTART:20260613T180000Z
DTEND:20260614T030000Z
URL:https://centrosociale.de/event/tanzen
LOCATION:- - -
STATUS:CONFIRMED
CATEGORIES:,Saal,laut
END:VEVENT
BEGIN:VEVENT
UID:978@localhost
SUMMARY:Geburtstag
DTSTAMP:20260420T044635Z
DTSTART:20260711T180000Z
URL:https://centrosociale.de/event/geburtstag
LOCATION:- - -
STATUS:CONFIRMED
CATEGORIES:,Saal,laut
END:VEVENT
BEGIN:VEVENT
UID:979@localhost
SUMMARY:Claudias Geburtstag
DTSTAMP:20260420T044635Z
DTSTART:20260717T173000Z
URL:https://centrosociale.de/event/claudias-geburtstag
LOCATION:- - -
STATUS:CONFIRMED
CATEGORIES:,Saal,laut
END:VEVENT
BEGIN:VEVENT
UID:5002@localhost
SUMMARY:ANGEFRAGT: CHAYAS CHILLEN
DTSTAMP:20260420T044635Z
DTSTART:20260801T160000Z
DTEND:20260802T020000Z
URL:https://centrosociale.de/event/angefragt-chayas-chillen
LOCATION:- - -
STATUS:CONFIRMED
CATEGORIES:Saal,laut
END:VEVENT
BEGIN:VEVENT
UID:4993@localhost
SUMMARY:ANGEFRAGT: FUGK Fashion Contest
DTSTAMP:20260420T044635Z
DTSTART:20260815T140000Z
DTEND:20260816T040000Z
URL:https://centrosociale.de/event/angefragt-fugk-fashion-contest
LOCATION:- - -
STATUS:CONFIRMED
CATEGORIES:Saal,laut
END:VEVENT
BEGIN:VEVENT
UID:4222@localhost
SUMMARY:ANGEFRAGT: Anfrage Geburtstagsfeier
DTSTAMP:20260420T044635Z
DTSTART:20260822T170000Z
DTEND:20260823T010000Z
URL:https://centrosociale.de/event/angefragt-anfrage-geburtstagsfeier
LOCATION:- - -
STATUS:CONFIRMED
CATEGORIES:Saal,laut
END:VEVENT
BEGIN:VEVENT
UID:980@localhost
SUMMARY:60 igster Geburtstag Britta
DTSTAMP:20260420T044635Z
DTSTART:20260905T170000Z
URL:https://centrosociale.de/event/60-igster-geburtstag-britta
LOCATION:- - -
STATUS:CONFIRMED
CATEGORIES:,Kubus,Saal,laut
END:VEVENT
BEGIN:VEVENT
UID:2628@localhost
SUMMARY:60 ter Geburtstag Biggi Stoehr
DTSTAMP:20260420T044635Z
DTSTART:20261003T170000Z
DTEND:20261004T000000Z
URL:https://centrosociale.de/event/angefragt-60-ter-geburtstag-biggi-stoehr
LOCATION:- - -
STATUS:CONFIRMED
CATEGORIES:Kubus,Saal,laut
END:VEVENT
BEGIN:VEVENT
UID:4111@localhost
SUMMARY:Geburtstag privat
DTSTAMP:20260420T044635Z
DTSTART:20261010T153000Z
DTEND:20261011T010000Z
URL:https://centrosociale.de/event/angefragt-iankas-geburtstag-51
LOCATION:- - -
STATUS:CONFIRMED
CATEGORIES:Saal,laut
END:VEVENT
BEGIN:VEVENT
UID:4958@localhost
SUMMARY:ANGEFRAGT: Swahili Kulturfestival 2026
DTSTAMP:20260420T044635Z
DTSTART:20261114T050000Z
DTEND:20261114T220000Z
URL:https://centrosociale.de/event/angefragt-swahili-kulturfestival-2026
LOCATION:- - -
STATUS:CONFIRMED
CATEGORIES:Büro,Kolleg,Loki-Lounge,Saal,laut
END:VEVENT
BEGIN:VEVENT
UID:982@localhost
SUMMARY:angefragt: 50.ter Geburtstag Lars
DTSTAMP:20260420T044635Z
DTSTART:20261114T190000Z
DTEND:20261115T020000Z
URL:https://centrosociale.de/event/50ter-geburtstag-lars
LOCATION:- - -
STATUS:CONFIRMED
CATEGORIES:,Kubus,Saal,laut
END:VEVENT
BEGIN:VEVENT
UID:983@localhost
SUMMARY:P99 Zukunftstag 2026
DTSTAMP:20260420T044635Z
DTSTART:20261121T090000Z
DTEND:20261122T020000Z
URL:https://centrosociale.de/event/p99-zukunftstag-2026
LOCATION:- - -
STATUS:CONFIRMED
CATEGORIES:Büro,Kolleg,Kolleg-Vorraum,Kubus,Loki-Lounge,Saal,Werkstatt,laut
END:VEVENT
BEGIN:VEVENT
UID:984@localhost
SUMMARY:angefragt: Get together
DTSTAMP:20260420T044635Z
DTSTART:20261128T130000Z
DTEND:20261128T220000Z
URL:https://centrosociale.de/event/get-together
LOCATION:- - -
STATUS:CONFIRMED
CATEGORIES:,Saal,laut
END:VEVENT
BEGIN:VEVENT
UID:4289@localhost
SUMMARY:ANGEFRAGT: Geburtstagsfeier von 2 Karoviertelbewohnerinnen
DTSTAMP:20260420T044635Z
DTSTART:20261205T160000Z
DTEND:20261206T030000Z
URL:https://centrosociale.de/event/angefragt-geburtstagsfeier-von-2-karovie
	rtelbewohnerinnen
LOCATION:- - -
STATUS:CONFIRMED
CATEGORIES:Kubus,Saal,laut
END:VEVENT
END:VCALENDAR
